BEGIN:VCALENDAR
PRODID:-//kirchenweb.ch gmbh//veranstaltungsausgabe v2.0//DE
VERSION:2.0
METHOD:PUBLISH
BEGIN:VEVENT
DTSTART:20251030T190000Z
DTEND:20251030T203000Z
LOCATION:Pfarreisaal\, Schulstrasse 8\, 8488 Turbenthal
TRANSP:OPAQUE
SEQUENCE:0
UID:2069-veranstaltung@herzjesu-turbenthal.ch
DTSTAMP:20250120T072229Z
DESCRIPTION:Kontakt: Theo Füglistaller\n\nWeitere Infos:
  https://www.herzjesu-turbenthal.ch/veranstaltung/2069
SUMMARY:Diskussionsrunde
PRIORITY:5
X-MICROSOFT-CDO-IMPORTANCE:1
CLASS:PUBLIC
END:VEVENT
END:VCALENDAR
