BEGIN:VCALENDAR
PRODID:-//kirchenweb.ch gmbh//veranstaltungsausgabe v2.0//DE
VERSION:2.0
METHOD:PUBLISH
BEGIN:VEVENT
DTSTART:20250405T080000Z
DTEND:20250405T090000Z
LOCATION:Katholische Kirche\, Schulstrasse 8\, 8488 Turbenthal
TRANSP:OPAQUE
SEQUENCE:0
UID:2103-veranstaltung@herzjesu-turbenthal.ch
DTSTAMP:20250120T073446Z
DESCRIPTION:Kontakt: Theo Füglistaller\n\nWeitere Infos:
  https://www.herzjesu-turbenthal.ch/veranstaltung/2103
SUMMARY:Hl. Messe - Herz-Mariä-Sühnesamstag
PRIORITY:5
X-MICROSOFT-CDO-IMPORTANCE:1
CLASS:PUBLIC
END:VEVENT
END:VCALENDAR
