BEGIN:VCALENDAR
PRODID:-//kirchenweb.ch gmbh//veranstaltungsausgabe v2.0//DE
VERSION:2.0
METHOD:PUBLISH
BEGIN:VEVENT
DTSTART:20250515T163000Z
DTEND:20250515T170000Z
LOCATION:Katholische Kirche\, \,
TRANSP:OPAQUE
SEQUENCE:0
UID:2161-veranstaltung@herzjesu-turbenthal.ch
DTSTAMP:20250120T081005Z
DESCRIPTION:Kontakt: ingeborg.dibernardo@herzjesu-turbenthal.ch\n\nWeitere
  Infos: https://www.herzjesu-turbenthal.ch/veranstaltung/2161
SUMMARY:Rosenkranz
PRIORITY:5
X-MICROSOFT-CDO-IMPORTANCE:1
CLASS:PUBLIC
END:VEVENT
END:VCALENDAR
