BEGIN:VCALENDAR
PRODID:-//kirchenweb.ch gmbh//veranstaltungsausgabe v2.0//DE
VERSION:2.0
METHOD:PUBLISH
BEGIN:VEVENT
DTSTART:20260425T080000Z
DTEND:20260425T090000Z
LOCATION:Katholische Kirche\, Schulstrasse 8\, 8488 Turbenthal
TRANSP:OPAQUE
SEQUENCE:0
UID:2254-veranstaltung@herzjesu-turbenthal.ch
DTSTAMP:20250619T141655Z
DESCRIPTION:Kontakt: \n\nWeitere Infos:
  https://www.herzjesu-turbenthal.ch/veranstaltung/2254
SUMMARY:Fiire mit de Chliine
PRIORITY:5
X-MICROSOFT-CDO-IMPORTANCE:1
CLASS:PUBLIC
END:VEVENT
END:VCALENDAR
