BEGIN:VCALENDAR
PRODID:-//kirchenweb.ch gmbh//veranstaltungsausgabe v2.0//DE
VERSION:2.0
METHOD:PUBLISH
BEGIN:VEVENT
DTSTART:20261003T070000Z
DTEND:20261003T080000Z
LOCATION:Katholische Kirche\, Schulstrasse 8\, 8488 Turbenthal
TRANSP:OPAQUE
SEQUENCE:0
UID:2561-veranstaltung@herzjesu-turbenthal.ch
DTSTAMP:20251106T112703Z
DESCRIPTION:09.00 Anbetung\, Rosenkranz\, Beichtgelegenheit\n09.30
  Betrachtung und Gebet\n\nKontakt:
  ingeborg.dibernardo@herzjesu-turbenthal.ch\n\nWeitere Infos:
  https://www.herzjesu-turbenthal.ch/veranstaltung/2561
SUMMARY:Herz-Mariä-Sühnesamstag
PRIORITY:5
X-MICROSOFT-CDO-IMPORTANCE:1
CLASS:PUBLIC
END:VEVENT
END:VCALENDAR
