BEGIN:VCALENDAR
PRODID:-//kirchenweb.ch gmbh//veranstaltungsausgabe v2.0//DE
VERSION:2.0
METHOD:PUBLISH
BEGIN:VEVENT
DTSTART:20260509T140000Z
DTEND:20260509T150000Z
LOCATION:Katholische Kirche\, Schulstrasse 8\, 8488 Turbenthal
TRANSP:OPAQUE
SEQUENCE:0
UID:2662-veranstaltung@herzjesu-turbenthal.ch
DTSTAMP:20260303T134353Z
DESCRIPTION:anschl. Apéro\n\nKontakt:
  ingeborg.dibernardo@herzjesu-turbenthal.ch\n\nWeitere Infos:
  https://www.herzjesu-turbenthal.ch/veranstaltung/2662
SUMMARY:Hl. Messe - Firmung
PRIORITY:5
X-MICROSOFT-CDO-IMPORTANCE:1
CLASS:PUBLIC
END:VEVENT
END:VCALENDAR
