BEGIN:VCALENDAR
PRODID:-//kirchenweb.ch gmbh//veranstaltungsausgabe v2.0//DE
VERSION:2.0
METHOD:PUBLISH
BEGIN:VEVENT
DTSTART:20261013T070000Z
DTEND:20261013T090000Z
LOCATION:Pfarreisaal\, Schulstrasse 8\, 8488 Turbenthal
TRANSP:OPAQUE
SEQUENCE:0
UID:2831-veranstaltung@herzjesu-turbenthal.ch
DTSTAMP:20251106T114429Z
DESCRIPTION:Kontakt: Margreth Koch\n\nWeitere Infos:
  https://www.herzjesu-turbenthal.ch/veranstaltung/2831
SUMMARY:Senioren-Kaffee-Treff-Spiele
PRIORITY:5
X-MICROSOFT-CDO-IMPORTANCE:1
CLASS:PUBLIC
END:VEVENT
END:VCALENDAR
