BEGIN:VCALENDAR
PRODID:-//kirchenweb.ch gmbh//veranstaltungsausgabe v2.0//DE
VERSION:2.0
METHOD:PUBLISH
BEGIN:VEVENT
DTSTART:20260101T160000Z
DTEND:20260101T170000Z
LOCATION:extern\, \,
TRANSP:OPAQUE
SEQUENCE:0
UID:2920-veranstaltung@herzjesu-turbenthal.ch
DTSTAMP:20251211T150257Z
DESCRIPTION:Reformierte Kirche Wila\, Tösstastrasse 34\, 8492 Wila
 \nPfarrperson: Pfrn. Heidi Noll\, Pfr. Theo Füglistaller\nMusik: David
  Gjulamirjan\, Klarinette; Mariam Poghosyan\, Orgel\nKollekte: Dargebotene
  Hand\nanschliessend Neujahrsbegegnung im Schulhaus Eichhalde\n\nKontakt:
  ingeborg.dibernardo@herzjesu-turbenthal.ch\n\nWeitere Infos:
  https://www.herzjesu-turbenthal.ch/veranstaltung/2920
SUMMARY:ökum. Gottesdienst
PRIORITY:5
X-MICROSOFT-CDO-IMPORTANCE:1
CLASS:PUBLIC
END:VEVENT
END:VCALENDAR
