BEGIN:VCALENDAR
PRODID:-//kirchenweb.ch gmbh//veranstaltungsausgabe v2.0//DE
VERSION:2.0
METHOD:PUBLISH
BEGIN:VEVENT
DTSTART:20260905T170000Z
DTEND:20260905T180000Z
LOCATION:Katholische Kirche\, Schulstrasse 8\, 8488 Turbenthal
TRANSP:OPAQUE
SEQUENCE:0
UID:2979-veranstaltung@herzjesu-turbenthal.ch
DTSTAMP:20260324T071201Z
DESCRIPTION:Kontakt: ingeborg.dibernardo@herzjesu-turbenthal.ch\n\nWeitere
  Infos: https://www.herzjesu-turbenthal.ch/veranstaltung/2979
SUMMARY:Syrisch-Orthodoxes Gebet
PRIORITY:5
X-MICROSOFT-CDO-IMPORTANCE:1
CLASS:PUBLIC
END:VEVENT
END:VCALENDAR
